BEGIN:VCALENDAR
VERSION:2.0
PRODID:-//eventon.com NONSGML v1.0//EN
CALSCALE:GREGORIAN
METHOD:PUBLISH
BEGIN:VEVENT
UID:69ecc602dac0f
DTSTAMP:20260425T134746Z
DTSTART:20260909T120000Z
DTEND:20260909T150000Z
LOCATION:Freiluftwerkstatt Siehbach Zug
SUMMARY:KOMM MIT AUF ENTDECKUNGSREISE!
DESCRIPTION:Hast du Lust auf einen Nachmittag unter freiem Himmel? Möchtes
 t du die Natur entdecken\,  deiner Fantasie freien Lauf lassen und gemeinsa
 m mit anderen kreativ sein? Der Spielort Siehbach wartet auf dich und deine
  Ideen! • Mitmachen: Kostet Fr. 5.– pro Nachmittag. • Anmeldung: Brau
 chst du nicht – komm einfach vorbei![..]\nhttps://www.tueftellabor-einste
 in.ch/events/komm-mit-auf-entdeckungsreise/var/ri-19.l-L1
URL:https://www.tueftellabor-einstein.ch/events/komm-mit-auf-entdeckungsreise/var/ri-19.l-L1
END:VEVENT
END:VCALENDAR